BEGIN:VCALENDAR
VERSION:2.0
PRODID:-//Stadtverwicklung v1.0//https://stadtverwicklung.de/en//DE
CALSCALE:GREGORIAN
X-WR-TIMEZONE:Europe/Berlin
BEGIN:VTIMEZONE
TZID:Europe/Berlin
X-LIC-LOCATION:Europe/Berlin
BEGIN:DAYLIGHT
TZNAME:CEST
TZOFFSETFROM:+0100
TZOFFSETTO:+0200
DTSTART:19700329T020000
RRULE:FREQ=YEARLY;INTERVAL=1;BYMONTH=3;BYDAY=-1SU
END:DAYLIGHT
BEGIN:STANDARD
TZNAME:CET
TZOFFSETFROM:+0200
TZOFFSETTO:+0100
DTSTART:19701027T030000
RRULE:FREQ=YEARLY;INTERVAL=1;BYMONTH=10;BYDAY=-1SU
END:STANDARD
END:VTIMEZONE
BEGIN:VEVENT
LOCATION:Urbanothek in der Alten Feuerwache\nErfurter Str. 37a\n99423 Weimar\nDE
DTSTART;TZID=Europe/Berlin:20260529T173000
DTEND;TZID=Europe/Berlin:20260529T193000
SUMMARY:Heiter scheitern und miteinander wachsen – Zwischen Idealismus und Struktur
URL;VALUE=URI:https://stadtverwicklung.de/en/termine/heiter-scheitern-und-miteinander-wachsen
DTSTAMP:20260421T234713
UID:https://stadtverwicklung.de/en/@/page/1cddruxgzw7dixf8
END:VEVENT
END:VCALENDAR