BEGIN:VCALENDAR
VERSION:2.0
PRODID:-//Stadtverwicklung v1.0//https://stadtverwicklung.de//DE
CALSCALE:GREGORIAN
X-WR-TIMEZONE:Europe/Berlin
BEGIN:VTIMEZONE
TZID:Europe/Berlin
X-LIC-LOCATION:Europe/Berlin
BEGIN:DAYLIGHT
TZNAME:CEST
TZOFFSETFROM:+0100
TZOFFSETTO:+0200
DTSTART:19700329T020000
RRULE:FREQ=YEARLY;INTERVAL=1;BYMONTH=3;BYDAY=-1SU
END:DAYLIGHT
BEGIN:STANDARD
TZNAME:CET
TZOFFSETFROM:+0200
TZOFFSETTO:+0100
DTSTART:19701027T030000
RRULE:FREQ=YEARLY;INTERVAL=1;BYMONTH=10;BYDAY=-1SU
END:STANDARD
END:VTIMEZONE
BEGIN:VEVENT
LOCATION:
DTSTART;TZID=Europe/Berlin:20260609T160000
DTEND;TZID=Europe/Berlin:20260609T173000
SUMMARY:Public-Civic-Partnerschaften – Neue Governance-Modelle für geteilte Verantwortung
URL;VALUE=URI:https://stadtverwicklung.de/termine/public-civic-partnerschaft
DTSTAMP:20260420T214724
UID:https://stadtverwicklung.de/@/page/fzhcwdyblysvzvjs
END:VEVENT
END:VCALENDAR